BEGIN:VCALENDAR
VERSION:2.0
PRODID:-//eventon.com NONSGML v1.0//EN
CALSCALE:GREGORIAN
METHOD:PUBLISH
BEGIN:VEVENT
UID:69e313f196077
DTSTAMP:20260418T051737Z
DTSTART:20260606
DTEND:20260607
LOCATION:Brewarrina Brewarrina NSW Australia
SUMMARY:Bre Big Fish
DESCRIPTION:Held on the June long weekend\,  the &#8220;Bre Big Fish&#8221;
  is become bigger and better every year\,  attracting over 600 anglers. The
  Brewarrina Fishing Club aims to reduce the amount of pest fish such as Car
 p and restock the Barwon-Darling River with native fish to ensure future ge
 nerations will continue[..]\nhttps://www.thedarlingriverrun.com.au/events/b
 re-big-fish/
URL:https://www.thedarlingriverrun.com.au/events/bre-big-fish/
END:VEVENT
END:VCALENDAR