BEGIN:VCALENDAR
VERSION:2.0
PRODID:-//eventon.com NONSGML v1.0//EN
CALSCALE:GREGORIAN
METHOD:PUBLISH
BEGIN:VEVENT
UID:69e4d4a4f1186
DTSTAMP:20260419T131204Z
DTSTART:20260405
DTEND:20260406
LOCATION:Bourke NSW Bourke NSW Australia
SUMMARY:Back O’ Bourke Picnic Races
DESCRIPTION:The Back O Bourke Picnic Races on Easter Sunday includes a five
  (5) race program with the feature race being the Harry Hart Memorial Cup.&
 nbsp;It is a great weekend of racing and really shows that racing is alive 
 and well out west. Other attractions on the day will include a[..]\nhttps:/
 /www.thedarlingriverrun.com.au/events/back-o-bourke-picnic-races/
URL:https://www.thedarlingriverrun.com.au/events/back-o-bourke-picnic-races/
END:VEVENT
END:VCALENDAR